BEGIN:VCALENDAR
VERSION:2.0
PRODID:GIGPRESS 2.0 WORDPRESS PLUGIN
CALSCALE:GREGORIAN
X-WR-TIMEZONE:Etc/GMT
METHOD:PUBLISH
BEGIN:VTIMEZONE
TZID:GMT
BEGIN:STANDARD
DTSTART:20071028T010000
TZOFFSETTO:+0000
TZOFFSETFROM:+0000
END:STANDARD
END:VTIMEZONE
BEGIN:VEVENT
SUMMARY:Jenny Biddle at DRYWATER ARTS CENTRE
DESCRIPTION:Price: £15. Box office: 07542 141411. Notes: Known as "The Friendliest Port in England\," Amble it is situated on the Northumberland coast at the mouth of the River.   Tonight Miwa Nagato-Apthorp  &amp\;  Jenny Biddle\, a brand new Scottish Borders–based duo blending roots\, folk and song-driven storytelling with warmth\, grit and heart.    Aussie songwriter and seasoned guitarist Jenny Biddle brings feisty blues and roots grooves\, ingenious re-workings of popular singalong-songs\, and a dusting of country for the wandering soul. Alongside her\, Miwa Nagato-Apthorp\, described as a “visceral new voice in Scottish folk”\, draws on folk traditions to explore multicultural understandings of history\, climate\, gender and home\, giving voice to stories often left unheard.    Together\, they weave guitar\, piano\, harmonies and amusing stage banter into an entertaining evening that feels both intimate and expansive. Their shared repertoire of original songs is rich with depth\, curiosity and a strong spirit of friendship. No Minors
LOCATION:DRYWATER ARTS CENTRE\, Wellwood St\, Amble\, UK
UID:20260516T173000Z-621-jennybiddleis@hotmail.com
URL:https://jennybiddle.com
DTSTART;VALUE=DATE-TIME;TZID=GMT:20260516T173000Z
DTEND;VALUE=DATE-TIME;TZID=GMT:20260516T173000Z
DTSTAMP:20260424T123144Z
END:VEVENT
END:VCALENDAR